BEGIN:VCALENDAR
VERSION:2.0
PRODID:-//DiaDia - ECPv6.15.20//NONSGML v1.0//EN
CALSCALE:GREGORIAN
METHOD:PUBLISH
X-WR-CALNAME:DiaDia
X-ORIGINAL-URL:https://diadia.cat
X-WR-CALDESC:Esdeveniments per DiaDia
REFRESH-INTERVAL;VALUE=DURATION:PT1H
X-Robots-Tag:noindex
X-PUBLISHED-TTL:PT1H
BEGIN:VTIMEZONE
TZID:Europe/Helsinki
BEGIN:DAYLIGHT
TZOFFSETFROM:+0200
TZOFFSETTO:+0300
TZNAME:EEST
DTSTART:20220327T010000
END:DAYLIGHT
BEGIN:STANDARD
TZOFFSETFROM:+0300
TZOFFSETTO:+0200
TZNAME:EET
DTSTART:20221030T010000
END:STANDARD
BEGIN:DAYLIGHT
TZOFFSETFROM:+0200
TZOFFSETTO:+0300
TZNAME:EEST
DTSTART:20230326T010000
END:DAYLIGHT
BEGIN:STANDARD
TZOFFSETFROM:+0300
TZOFFSETTO:+0200
TZNAME:EET
DTSTART:20231029T010000
END:STANDARD
BEGIN:DAYLIGHT
TZOFFSETFROM:+0200
TZOFFSETTO:+0300
TZNAME:EEST
DTSTART:20240331T010000
END:DAYLIGHT
BEGIN:STANDARD
TZOFFSETFROM:+0300
TZOFFSETTO:+0200
TZNAME:EET
DTSTART:20241027T010000
END:STANDARD
END:VTIMEZONE
BEGIN:VEVENT
DTSTART;VALUE=DATE:20230411
DTEND;VALUE=DATE:20230703
DTSTAMP:20260423T221657
CREATED:20230411T082333Z
LAST-MODIFIED:20230411T082333Z
UID:139959-1681171200-1688342399@diadia.cat
SUMMARY:Albocàsser. Concurs de fotografia taurina
DESCRIPTION:  \n 
URL:https://diadia.cat/esdevenimentsdia/albocasser-concurs-de-fotografia-taurina/
ATTACH;FMTTYPE=image/jpeg:https://diadia.cat/wp-content/uploads/2023/04/WhatsApp-Image-2023-04-05-at-11.11.33.jpeg
END:VEVENT
BEGIN:VEVENT
DTSTART;VALUE=DATE:20230506
DTEND;VALUE=DATE:20230915
DTSTAMP:20260423T221657
CREATED:20230505T152932Z
LAST-MODIFIED:20230505T152932Z
UID:140645-1683331200-1694735999@diadia.cat
SUMMARY:Albocàsser. Obri piscina
DESCRIPTION:
URL:https://diadia.cat/esdevenimentsdia/albocasser-obri-piscina/
ATTACH;FMTTYPE=image/jpeg:https://diadia.cat/wp-content/uploads/2023/05/WhatsApp-Image-2023-05-05-at-16.07.23.jpeg
END:VEVENT
BEGIN:VEVENT
DTSTART;VALUE=DATE:20230605
DTEND;VALUE=DATE:20230912
DTSTAMP:20260423T221657
CREATED:20230605T141404Z
LAST-MODIFIED:20230605T141404Z
UID:141722-1685923200-1694476799@diadia.cat
SUMMARY:Vilafranca. Horari d'estiu a la biblioteca
DESCRIPTION:
URL:https://diadia.cat/esdevenimentsdia/vilafranca-horari-destiu-a-la-biblioteca/
ATTACH;FMTTYPE=image/jpeg:https://diadia.cat/wp-content/uploads/2023/06/WhatsApp-Image-2023-06-05-at-15.18.34.jpeg
END:VEVENT
BEGIN:VEVENT
DTSTART;VALUE=DATE:20230606
DTEND;VALUE=DATE:20230701
DTSTAMP:20260423T221657
CREATED:20230606T103813Z
LAST-MODIFIED:20230606T103813Z
UID:141797-1686009600-1688169599@diadia.cat
SUMMARY:Vistabella\, oficina de la Renda
DESCRIPTION:INFORMEM 🔈\n◼️El servei gratuït d’atenció al públic per a la campanya de la renda 2022 es trasllada de la biblioteca a l’Ajuntament. L’horari es manté igual\, de 09.30 h. a 14.00 h. i de 16.00 h. a 19.00 h.\n◼️Recordem també que per assistir és necessari demanar cita prèvia\, bé cridant als telèfons 901 22 33 44 o 915 53 00 71 o bé a través del web www.agenciatributaria.es 📞🖥️
URL:https://diadia.cat/esdevenimentsdia/vistabella-oficina-de-la-renda/
END:VEVENT
BEGIN:VEVENT
DTSTART;VALUE=DATE:20230606
DTEND;VALUE=DATE:20230812
DTSTAMP:20260423T221657
CREATED:20230606T123907Z
LAST-MODIFIED:20230606T123907Z
UID:141829-1686009600-1691798399@diadia.cat
SUMMARY:Tirig. Inscripcions a l'Escola d'Estiu
DESCRIPTION:
URL:https://diadia.cat/esdevenimentsdia/tirig-inscripcions-a-lescola-destiu/
ATTACH;FMTTYPE=image/jpeg:https://diadia.cat/wp-content/uploads/2023/06/Tirig.-Inscripcions-a-lEscola-dEstiu.jpeg
END:VEVENT
BEGIN:VEVENT
DTSTART;TZID=Europe/Helsinki:20230608T080000
DTEND;TZID=Europe/Helsinki:20230702T170000
DTSTAMP:20260423T221657
CREATED:20230530T133629Z
LAST-MODIFIED:20230530T133629Z
UID:141539-1686211200-1688317200@diadia.cat
SUMMARY:Exposició “Imprescindibles”.  Recull d’històries de vida de persones rellevants per la joventut  de la comarca
DESCRIPTION:Recull d’històries de vida de persones rellevants per la joventut de la comarca. \nDel 8 de juny al 2 de juliol de 2023 \nSales Gòtiques de l’Ajuntament \nJoventut de 2n d’ESO de l’IES Els Ports i l’IES Vilafranca \nXarxa Jove de la Mancomunitat Comarcal Els Ports i Ajuntament de Vilafranca
URL:https://diadia.cat/esdevenimentsdia/exposicio-imprescindibles-recull-dhistories-de-vida-de-persones-rellevants-per-la-joventut-de-la-comarca/
LOCATION:Sales Gòtiques de l’Ajuntament de Vilafranca\, Vilafranca\, Espanya
CATEGORIES:Vilafranca
ATTACH;FMTTYPE=image/jpeg:https://diadia.cat/wp-content/uploads/2023/05/AGENDA-ACTIVA-JUNY-VILAFRANCA.jpg
END:VEVENT
BEGIN:VEVENT
DTSTART;VALUE=DATE:20230629
DTEND;VALUE=DATE:20231001
DTSTAMP:20260423T221657
CREATED:20230629T145358Z
LAST-MODIFIED:20230629T145358Z
UID:142752-1687996800-1696118399@diadia.cat
SUMMARY:Ares. Servei de biblioteca i repàs
DESCRIPTION:
URL:https://diadia.cat/esdevenimentsdia/ares-servei-de-biblioteca-i-repas/
ATTACH;FMTTYPE=image/jpeg:https://diadia.cat/wp-content/uploads/2023/06/WhatsApp-Image-2023-06-29-at-14.47.32.jpeg
END:VEVENT
BEGIN:VEVENT
DTSTART;TZID=Europe/Helsinki:20230630T080000
DTEND;TZID=Europe/Helsinki:20230630T170000
DTSTAMP:20260423T221657
CREATED:20230708T102348Z
LAST-MODIFIED:20230630T102902Z
UID:142792-1688112000-1688144400@diadia.cat
SUMMARY:La Mata - Descobreix els Ports
DESCRIPTION:– LA MATA\, 8 de juliol a les 18:00h: https://forms.gle/tzfr8jMYF3aVxG1G8
URL:https://diadia.cat/esdevenimentsdia/la-mata-descobreix-els-ports/
ATTACH;FMTTYPE=image/jpeg:https://diadia.cat/wp-content/uploads/2023/06/Visites-guiades-als-Ports.jpg
END:VEVENT
BEGIN:VEVENT
DTSTART;VALUE=DATE:20230701
DTEND;VALUE=DATE:20230702
DTSTAMP:20260423T221657
CREATED:20230606T104545Z
LAST-MODIFIED:20230606T104545Z
UID:141801-1688169600-1688255999@diadia.cat
SUMMARY:Coratxà. Campionat de Morra
DESCRIPTION:
URL:https://diadia.cat/esdevenimentsdia/coratxa-campionat-de-morra/
ATTACH;FMTTYPE=image/jpeg:https://diadia.cat/wp-content/uploads/2023/06/Coratxa.-Campionat-de-Morra.jpg
END:VEVENT
BEGIN:VEVENT
DTSTART;VALUE=DATE:20230701
DTEND;VALUE=DATE:20230703
DTSTAMP:20260423T221657
CREATED:20230606T123550Z
LAST-MODIFIED:20230606T123550Z
UID:141825-1688169600-1688342399@diadia.cat
SUMMARY:Villores. Taller de fer espardenyes
DESCRIPTION:FEM ESPARDENYES\, FEM POBLE🪡 \n📆 Reserveu aquesta data! El cap de setmana de l’ 1 i 2 de juliol Torna una nova edició dels talles d’espardenyes al nostre poble. \n🗣️ Les places estan limitades a 10 participants \n📄 Inscripció i informació al següent enllaç: https://forms.gle/N7Q7EeNCBZ9BcN716 \n📧 Qualsevol dubte\, podeu escriure al correu: espardenya.villores@gmail.com \nTota la programació en el cartell adjunt. \nVine i participa!🙌🏼
URL:https://diadia.cat/esdevenimentsdia/villores-taller-de-fer-espardenyes/
ATTACH;FMTTYPE=image/jpeg:https://diadia.cat/wp-content/uploads/2023/06/WhatsApp-Image-2023-06-06-at-13.08.30.jpeg
END:VEVENT
BEGIN:VEVENT
DTSTART;VALUE=DATE:20230701
DTEND;VALUE=DATE:20230724
DTSTAMP:20260423T221657
CREATED:20230629T090513Z
LAST-MODIFIED:20230629T090513Z
UID:142697-1688169600-1690156799@diadia.cat
SUMMARY:Vilafranca. Agenda Activa juliol 2023
DESCRIPTION:
URL:https://diadia.cat/esdevenimentsdia/vilafranca-agenda-activa-juliol-2023/
ATTACH;FMTTYPE=image/jpeg:https://diadia.cat/wp-content/uploads/2023/06/AGENDA-ACTIVA_estiu_2023_juliol_543x768.jpg
END:VEVENT
BEGIN:VEVENT
DTSTART;VALUE=DATE:20230701
DTEND;VALUE=DATE:20230826
DTSTAMP:20260423T221657
CREATED:20230629T090842Z
LAST-MODIFIED:20230629T090842Z
UID:142701-1688169600-1693007999@diadia.cat
SUMMARY:Benassal. Temporada de la piscina municipal
DESCRIPTION:
URL:https://diadia.cat/esdevenimentsdia/benassal-temporada-de-la-piscina-municipal/
ATTACH;FMTTYPE=image/jpeg:https://diadia.cat/wp-content/uploads/2023/06/WhatsApp-Image-2023-06-29-at-09.27.04.jpeg
END:VEVENT
BEGIN:VEVENT
DTSTART;VALUE=DATE:20230701
DTEND;VALUE=DATE:20230901
DTSTAMP:20260423T221657
CREATED:20230705T104245Z
LAST-MODIFIED:20230705T104245Z
UID:142904-1688169600-1693526399@diadia.cat
SUMMARY:Mosqueruela. Horario de verano de la oficina de turismo
DESCRIPTION:
URL:https://diadia.cat/esdevenimentsdia/mosqueruela-horario-de-verano-de-la-oficina-de-turismo/
ATTACH;FMTTYPE=image/jpeg:https://diadia.cat/wp-content/uploads/2023/07/Mosqueruela.-Horario-de-verano-de-la-oficina-de-turismo.jpeg
END:VEVENT
BEGIN:VEVENT
DTSTART;VALUE=DATE:20230701
DTEND;VALUE=DATE:20230901
DTSTAMP:20260423T221657
CREATED:20230705T110116Z
LAST-MODIFIED:20230705T110116Z
UID:142908-1688169600-1693526399@diadia.cat
SUMMARY:Ares. Taller de tonificación autogestionada
DESCRIPTION:  \n  \n. \n  \n 
URL:https://diadia.cat/esdevenimentsdia/ares-taller-de-tonificacion-autogestionada/
ATTACH;FMTTYPE=image/jpeg:https://diadia.cat/wp-content/uploads/2023/07/Ares.-Taller-de-tonificacion-autogestionada.jpeg
END:VEVENT
BEGIN:VEVENT
DTSTART;VALUE=DATE:20230701
DTEND;VALUE=DATE:20230901
DTSTAMP:20260423T221657
CREATED:20230705T110812Z
LAST-MODIFIED:20230705T110812Z
UID:142914-1688169600-1693526399@diadia.cat
SUMMARY:Ares. Classes d'aquagym
DESCRIPTION:
URL:https://diadia.cat/esdevenimentsdia/ares-classes-daquagym/
ATTACH;FMTTYPE=image/jpeg:https://diadia.cat/wp-content/uploads/2023/07/Ares.-Classes-daquagym.jpeg
END:VEVENT
BEGIN:VEVENT
DTSTART;VALUE=DATE:20230701
DTEND;VALUE=DATE:20230702
DTSTAMP:20260423T221657
CREATED:20230728T124504Z
LAST-MODIFIED:20230728T124504Z
UID:144070-1688169600-1688255999@diadia.cat
SUMMARY:Villores. Aquaym
DESCRIPTION:☀️🏊🏼‍♂️ CURS AQUAGYM 🏊🏼‍♂️☀️ \nS’informa que durant aquest mes d’agost s’oferirà un curs d’aquagym a la piscina de Villores. \n📅 El curs es realitzarà els següents dies:\nDimarts 1 / Dijous 3 / Dimarts 8 / Dijous 10 d’agost a les 17:00 hores. \n💶 Preus d’inscripció:\n– 4€ Amb bono de la piscina.\n– 5€ Sense bono de la piscina. \n📝 Per apuntar-se:\n– Enviar un missatge al whatsapp InfoVillores\n– Enviar un correu a ajuntamentvillores@gmail.com\n– Presencialment a l’Ajuntamen Animeu-vos a participar i gaudir de l’estiu amb aquesta fantàstica i saludable activitat!⛱️🏊🏼‍♂️
URL:https://diadia.cat/esdevenimentsdia/villores-aquaym/2023-07-01/
ATTACH;FMTTYPE=image/jpeg:https://diadia.cat/wp-content/uploads/2023/07/Villores.-Aquaym.jpeg
END:VEVENT
BEGIN:VEVENT
DTSTART;VALUE=DATE:20230701
DTEND;VALUE=DATE:20231031
DTSTAMP:20260423T221657
CREATED:20231024T075805Z
LAST-MODIFIED:20231024T075805Z
UID:146521-1688169600-1698710399@diadia.cat
SUMMARY:Morella. Curs elaboració i farciment de masses de pastisseria
DESCRIPTION:
URL:https://diadia.cat/esdevenimentsdia/morella-curs-elaboracio-i-farciment-de-masses-de-pastisseria/
ATTACH;FMTTYPE=image/jpeg:https://diadia.cat/wp-content/uploads/2023/10/Fullet-elaboracio-masses-i-farciments-pans-val_page-0001.jpg
END:VEVENT
BEGIN:VEVENT
DTSTART;VALUE=DATE:20230705
DTEND;VALUE=DATE:20230706
DTSTAMP:20260423T221657
CREATED:20230629T115038Z
LAST-MODIFIED:20230629T115038Z
UID:142723-1688515200-1688601599@diadia.cat
SUMMARY:Forcall. Cursos de natació
DESCRIPTION:
URL:https://diadia.cat/esdevenimentsdia/forcall-cursos-de-natacio/2023-07-05/
ATTACH;FMTTYPE=image/jpeg:https://diadia.cat/wp-content/uploads/2023/06/WhatsApp-Image-2023-06-29-at-13.18.05.jpeg
END:VEVENT
BEGIN:VEVENT
DTSTART;VALUE=DATE:20230705
DTEND;VALUE=DATE:20230706
DTSTAMP:20260423T221657
CREATED:20230705T102712Z
LAST-MODIFIED:20230705T102712Z
UID:142881-1688515200-1688601599@diadia.cat
SUMMARY:Benassal. Ioga i Tai Chi
DESCRIPTION:
URL:https://diadia.cat/esdevenimentsdia/benassal-ioga-i-tai-chi/2023-07-05/
ATTACH;FMTTYPE=image/jpeg:https://diadia.cat/wp-content/uploads/2023/07/Benassal.-Ioga-i-Tai-Chi.jpeg
END:VEVENT
BEGIN:VEVENT
DTSTART;VALUE=DATE:20230706
DTEND;VALUE=DATE:20230707
DTSTAMP:20260423T221657
CREATED:20230705T110520Z
LAST-MODIFIED:20230705T110520Z
UID:142911-1688601600-1688687999@diadia.cat
SUMMARY:Ares. Reunió Festes 2023
DESCRIPTION:
URL:https://diadia.cat/esdevenimentsdia/ares-reunio-festes-2023/
ATTACH;FMTTYPE=image/jpeg:https://diadia.cat/wp-content/uploads/2023/07/Ares.-Reunio-Festes-2023.jpeg
END:VEVENT
BEGIN:VEVENT
DTSTART;VALUE=DATE:20230706
DTEND;VALUE=DATE:20230708
DTSTAMP:20260423T221657
CREATED:20230706T105253Z
LAST-MODIFIED:20230706T105253Z
UID:142954-1688601600-1688774399@diadia.cat
SUMMARY:Mosqueruela. Recogida de firmas para las ambulancias.
DESCRIPTION:
URL:https://diadia.cat/esdevenimentsdia/mosqueruela-recogida-de-firmas-para-las-ambulancias/
ATTACH;FMTTYPE=image/jpeg:https://diadia.cat/wp-content/uploads/2023/07/Mosqueruela.-Recogida-de-firmas-para-las-ambulancias.jpeg
END:VEVENT
BEGIN:VEVENT
DTSTART;VALUE=DATE:20230706
DTEND;VALUE=DATE:20230707
DTSTAMP:20260423T221657
CREATED:20230706T110545Z
LAST-MODIFIED:20230706T110545Z
UID:142962-1688601600-1688687999@diadia.cat
SUMMARY:Morella. Carretera de Xiva tallada.
DESCRIPTION:⚠️ Incidència a la carretera CV-117 de Morella a Xiva \n‼️ Despreniments al punt quilomètric 7\, carril en sentit Xiva tallat\, es prega que circulen amb precaució per aquest tram.
URL:https://diadia.cat/esdevenimentsdia/morella-carretera-de-xiva-tallada/
END:VEVENT
BEGIN:VEVENT
DTSTART;VALUE=DATE:20230707
DTEND;VALUE=DATE:20230708
DTSTAMP:20260423T221657
CREATED:20230706T115152Z
LAST-MODIFIED:20230706T115152Z
UID:142988-1688688000-1688774399@diadia.cat
SUMMARY:Culla. Agenda de serveis sanitaris
DESCRIPTION:🏥👨🏽‍⚕️👩🏼‍⚕️ .\nSERVEI MÈDIC. CULLA – SERVEI ESPECIAL JULIOL/2023 (per problemes de personal sanitari).\nDivendres\, 7/juliol\nSí al Consultori de Monllat (Llorença) pel matí.\nAl consultori de Culla a partir de les 13 hores.\nDilluns\, 10/juliol\nAl consultori de Culla a partir de les 13 hores.\nDimarts\, 11/juliol\nSí al Consultori de Monllat (Llorença) pel matí.\nNo al consultori de Culla (Albocàsser)\n📲☎️ . Telf metge: 964336105 // Telf infermeria: 964336106\nCentro mèdic Albocàsser 964158150
URL:https://diadia.cat/esdevenimentsdia/culla-agenda-de-serveis-sanitaris/2023-07-07/
END:VEVENT
BEGIN:VEVENT
DTSTART;VALUE=DATE:20230708
DTEND;VALUE=DATE:20230709
DTSTAMP:20260423T221657
CREATED:20230706T112116Z
LAST-MODIFIED:20230706T112116Z
UID:142973-1688774400-1688860799@diadia.cat
SUMMARY:Culla. Art al Quadrat
DESCRIPTION:🏵️🎨🌀🏺\nExposició en\nGaleria Collblanc – Espai Nivi.\nMas de Tomàs.\n👉🏼 Inauguració el dissabte\, 8/7/23\, a les 21 h.
URL:https://diadia.cat/esdevenimentsdia/culla-art-al-quadrat/
ATTACH;FMTTYPE=image/jpeg:https://diadia.cat/wp-content/uploads/2023/07/Culla.-Art-al-Quadrat.jpeg
END:VEVENT
BEGIN:VEVENT
DTSTART;VALUE=DATE:20230709
DTEND;VALUE=DATE:20230710
DTSTAMP:20260423T221657
CREATED:20230602T125715Z
LAST-MODIFIED:20230602T125715Z
UID:141682-1688860800-1688947199@diadia.cat
SUMMARY:Benassal. Vetlades Barroques en Escenaris Històrics 2023
DESCRIPTION:
URL:https://diadia.cat/esdevenimentsdia/benassal-vetlades-barroques-en-escenaris-historics-2023/
ATTACH;FMTTYPE=image/jpeg:https://diadia.cat/wp-content/uploads/2023/06/Benassal.-Vetlades-Barroques-en-Escenaris-Historics-2023.jpeg
END:VEVENT
BEGIN:VEVENT
DTSTART;VALUE=DATE:20230709
DTEND;VALUE=DATE:20230710
DTSTAMP:20260423T221657
CREATED:20230629T114648Z
LAST-MODIFIED:20230629T114648Z
UID:142719-1688860800-1688947199@diadia.cat
SUMMARY:Villores. Sant Cristòfol
DESCRIPTION:🚗 Sant Cristòfol 2023 🛻 \n📆 Diumenge 9 de juliol \n🕘 10:00h Missa. A continuació benedicció dels vehicles \n🥘 A les 14:00h\, es farà dinar de paella de carn al poli\, per apuntar-se cal posar-se en contacte amb l’Ajuntament per whatsapp a InfoVillores\, per mail ajuntamentvillores@gmail.com o de manera presencial. \n(Preu aproximat del dinar 15€. Es pagarà en acabar)f
URL:https://diadia.cat/esdevenimentsdia/villores-sant-cristofol/
ATTACH;FMTTYPE=image/jpeg:https://diadia.cat/wp-content/uploads/2023/06/WhatsApp-Image-2023-06-29-at-13.44.09.jpeg
END:VEVENT
BEGIN:VEVENT
DTSTART;VALUE=DATE:20230709
DTEND;VALUE=DATE:20230710
DTSTAMP:20260423T221657
CREATED:20230705T111059Z
LAST-MODIFIED:20230705T111059Z
UID:142918-1688860800-1688947199@diadia.cat
SUMMARY:Benassal. Concert de música barroca
DESCRIPTION:
URL:https://diadia.cat/esdevenimentsdia/benassal-concert-de-musica-barroca/
ATTACH;FMTTYPE=image/jpeg:https://diadia.cat/wp-content/uploads/2023/07/Benassal.-Concert-de-musica-barroca.jpeg
END:VEVENT
BEGIN:VEVENT
DTSTART;VALUE=DATE:20230709
DTEND;VALUE=DATE:20230710
DTSTAMP:20260423T221657
CREATED:20230706T134414Z
LAST-MODIFIED:20230706T134414Z
UID:143016-1688860800-1688947199@diadia.cat
SUMMARY:Albocàsser. Intercanvi de Bandes
DESCRIPTION:
URL:https://diadia.cat/esdevenimentsdia/albocasser-intercanvi-de-bandes/
ATTACH;FMTTYPE=image/jpeg:https://diadia.cat/wp-content/uploads/2023/07/Albocasser.-Intercanvi-de-Bandes.jpeg
END:VEVENT
BEGIN:VEVENT
DTSTART;VALUE=DATE:20230709
DTEND;VALUE=DATE:20230710
DTSTAMP:20260423T221657
CREATED:20230706T134702Z
LAST-MODIFIED:20230706T134702Z
UID:143019-1688860800-1688947199@diadia.cat
SUMMARY:Albocàsser. Trobadores al Dia de les Famílies amb "Tira-li"
DESCRIPTION:
URL:https://diadia.cat/esdevenimentsdia/albocasser-trobadores-al-dia-de-les-families-amb-tira-li/
ATTACH;FMTTYPE=image/jpeg:https://diadia.cat/wp-content/uploads/2023/07/Albocasser.-Trobadores-al-Dia-de-les-Families-amb-Tira-li.jpeg
END:VEVENT
BEGIN:VEVENT
DTSTART;VALUE=DATE:20230710
DTEND;VALUE=DATE:20230819
DTSTAMP:20260423T221657
CREATED:20230629T113840Z
LAST-MODIFIED:20230629T113840Z
UID:142716-1688947200-1692403199@diadia.cat
SUMMARY:Castellfort. Escola d'Estiu
DESCRIPTION:
URL:https://diadia.cat/esdevenimentsdia/castellfort-escola-destiu/
ATTACH;FMTTYPE=image/jpeg:https://diadia.cat/wp-content/uploads/2023/06/WhatsApp-Image-2023-06-29-at-13.17.38.jpeg
END:VEVENT
END:VCALENDAR