BEGIN:VCALENDAR
VERSION:2.0
PRODID:-//DiaDia - ECPv6.15.20//NONSGML v1.0//EN
CALSCALE:GREGORIAN
METHOD:PUBLISH
X-ORIGINAL-URL:https://diadia.cat
X-WR-CALDESC:Esdeveniments per DiaDia
REFRESH-INTERVAL;VALUE=DURATION:PT1H
X-Robots-Tag:noindex
X-PUBLISHED-TTL:PT1H
BEGIN:VTIMEZONE
TZID:Europe/Helsinki
BEGIN:DAYLIGHT
TZOFFSETFROM:+0200
TZOFFSETTO:+0300
TZNAME:EEST
DTSTART:20220327T010000
END:DAYLIGHT
BEGIN:STANDARD
TZOFFSETFROM:+0300
TZOFFSETTO:+0200
TZNAME:EET
DTSTART:20221030T010000
END:STANDARD
BEGIN:DAYLIGHT
TZOFFSETFROM:+0200
TZOFFSETTO:+0300
TZNAME:EEST
DTSTART:20230326T010000
END:DAYLIGHT
BEGIN:STANDARD
TZOFFSETFROM:+0300
TZOFFSETTO:+0200
TZNAME:EET
DTSTART:20231029T010000
END:STANDARD
BEGIN:DAYLIGHT
TZOFFSETFROM:+0200
TZOFFSETTO:+0300
TZNAME:EEST
DTSTART:20240331T010000
END:DAYLIGHT
BEGIN:STANDARD
TZOFFSETFROM:+0300
TZOFFSETTO:+0200
TZNAME:EET
DTSTART:20241027T010000
END:STANDARD
END:VTIMEZONE
BEGIN:VEVENT
DTSTART;VALUE=DATE:20230629
DTEND;VALUE=DATE:20231001
DTSTAMP:20260424T064546
CREATED:20230629T145358Z
LAST-MODIFIED:20230629T145358Z
UID:142752-1687996800-1696118399@diadia.cat
SUMMARY:Ares. Servei de biblioteca i repàs
DESCRIPTION:
URL:https://diadia.cat/esdevenimentsdia/ares-servei-de-biblioteca-i-repas/
ATTACH;FMTTYPE=image/jpeg:https://diadia.cat/wp-content/uploads/2023/06/WhatsApp-Image-2023-06-29-at-14.47.32.jpeg
END:VEVENT
BEGIN:VEVENT
DTSTART;VALUE=DATE:20230701
DTEND;VALUE=DATE:20230826
DTSTAMP:20260424T064546
CREATED:20230629T090842Z
LAST-MODIFIED:20230629T090842Z
UID:142701-1688169600-1693007999@diadia.cat
SUMMARY:Benassal. Temporada de la piscina municipal
DESCRIPTION:
URL:https://diadia.cat/esdevenimentsdia/benassal-temporada-de-la-piscina-municipal/
ATTACH;FMTTYPE=image/jpeg:https://diadia.cat/wp-content/uploads/2023/06/WhatsApp-Image-2023-06-29-at-09.27.04.jpeg
END:VEVENT
BEGIN:VEVENT
DTSTART;VALUE=DATE:20230701
DTEND;VALUE=DATE:20230901
DTSTAMP:20260424T064546
CREATED:20230705T110116Z
LAST-MODIFIED:20230705T110116Z
UID:142908-1688169600-1693526399@diadia.cat
SUMMARY:Ares. Taller de tonificación autogestionada
DESCRIPTION:  \n  \n. \n  \n 
URL:https://diadia.cat/esdevenimentsdia/ares-taller-de-tonificacion-autogestionada/
ATTACH;FMTTYPE=image/jpeg:https://diadia.cat/wp-content/uploads/2023/07/Ares.-Taller-de-tonificacion-autogestionada.jpeg
END:VEVENT
BEGIN:VEVENT
DTSTART;VALUE=DATE:20230712
DTEND;VALUE=DATE:20230901
DTSTAMP:20260424T064546
CREATED:20230712T095010Z
LAST-MODIFIED:20230712T095010Z
UID:143200-1689120000-1693526399@diadia.cat
SUMMARY:Culla. Agenda de juliol i agost
DESCRIPTION:
URL:https://diadia.cat/esdevenimentsdia/culla-agenda-de-juliol-i-agost/
ATTACH;FMTTYPE=image/jpeg:https://diadia.cat/wp-content/uploads/2023/07/Culla.-Agenda-de-juliol-i-agost.jpeg
END:VEVENT
BEGIN:VEVENT
DTSTART;VALUE=DATE:20230801
DTEND;VALUE=DATE:20230807
DTSTAMP:20260424T064546
CREATED:20230727T131057Z
LAST-MODIFIED:20230727T131057Z
UID:144020-1690848000-1691366399@diadia.cat
SUMMARY:Albocàsser. Programa Setmana Cultural
DESCRIPTION:
URL:https://diadia.cat/esdevenimentsdia/albocasser-programa-setmana-cultural/
ATTACH;FMTTYPE=image/jpeg:https://diadia.cat/wp-content/uploads/2023/07/Programa-Setmana-Cultural-Albocasser-1-rotated.jpeg
END:VEVENT
BEGIN:VEVENT
DTSTART;VALUE=DATE:20230801
DTEND;VALUE=DATE:20230901
DTSTAMP:20260424T064546
CREATED:20230803T113025Z
LAST-MODIFIED:20230803T113025Z
UID:144451-1690848000-1693526399@diadia.cat
SUMMARY:Ares del Maestrat. Visites a la Cova Remígia i Cingle de la Mola Remígia
DESCRIPTION:
URL:https://diadia.cat/esdevenimentsdia/ares-del-maestrat-visites-a-la-cova-remigia-i-cingle-de-la-mola-remigia/
ATTACH;FMTTYPE=image/jpeg:https://diadia.cat/wp-content/uploads/2023/08/Ares-del-Maestrat.-Visites-a-la-Cova-Remigia-i-Cingle-de-la-Mola-Remigia.jpeg
END:VEVENT
BEGIN:VEVENT
DTSTART;VALUE=DATE:20230803
DTEND;VALUE=DATE:20230804
DTSTAMP:20260424T064546
CREATED:20230719T105653Z
LAST-MODIFIED:20230719T105653Z
UID:143492-1691020800-1691107199@diadia.cat
SUMMARY:Vistabella. Ruta de la Salut d'Alcer Castalia
DESCRIPTION:🆕 Acosta’t a la Ruta de la Salut d’Alcer Castalia \n🤔 Quan? Dijous 3 d’agost \n🕓 Hora? De 16h a 17h \n📍 On? En el Centre de Salut \nℹ️ Objectiu? Conscienciar i previndre sobre les malalties renals. També es faran mesuraments i seguiments a les persones que ho demanen \n*** \n🆕 Acércate a la Ruta de la Salud de Alcer Castalia \n🤔 Cuándo? Jueves 3 de agosto \n🕓 Hora? De 16h a 17h \n📍 Dónde? En el Centro de Salud \nℹ️ Objetivo? Concienciar y prevenir sobre las enfermedades renales. También se harán mediciones y seguimientos a las personas que lo piden
URL:https://diadia.cat/esdevenimentsdia/vistabella-ruta-de-la-salut-dalcer-castalia/
ATTACH;FMTTYPE=image/jpeg:https://diadia.cat/wp-content/uploads/2023/07/Vistabella-ruta-de-la-Salut-dAlcer-Castalia.jpeg
END:VEVENT
BEGIN:VEVENT
DTSTART;VALUE=DATE:20230803
DTEND;VALUE=DATE:20230804
DTSTAMP:20260424T064546
CREATED:20230802T081341Z
LAST-MODIFIED:20230802T081341Z
UID:144382-1691020800-1691107199@diadia.cat
SUMMARY:Benassal. Xou 'Bonico de Cara'
DESCRIPTION:✨ #Benassal s’ompli de màgia\, música i humor \n📆 El 3 d’agost a les 19:30h xou ‘Bonico de Cara’ \nℹ️ Tota la informació en el cartell adjunt \n*** \n✨ Benassal se llena de mágia\, música y humor \n📆 El 3 de agosto a las 19:30h show ‘Bonico de Cara’ \nℹ️ Toda la información en el cartell adjunto
URL:https://diadia.cat/esdevenimentsdia/benassal-xou-bonico-de-cara/
ATTACH;FMTTYPE=image/jpeg:https://diadia.cat/wp-content/uploads/2023/08/Benassal-xou-Bonico-de-Cara.jpeg
END:VEVENT
BEGIN:VEVENT
DTSTART;VALUE=DATE:20230803
DTEND;VALUE=DATE:20230804
DTSTAMP:20260424T064546
CREATED:20230803T132247Z
LAST-MODIFIED:20230803T132247Z
UID:144498-1691020800-1691107199@diadia.cat
SUMMARY:Benassal. Bonico de Cara
DESCRIPTION:
URL:https://diadia.cat/esdevenimentsdia/benassal-bonico-de-cara/
ATTACH;FMTTYPE=image/jpeg:https://diadia.cat/wp-content/uploads/2023/08/Benassal.-Bonico-de-Cara_543x768.jpeg
END:VEVENT
END:VCALENDAR