BEGIN:VCALENDAR
VERSION:2.0
PRODID:-//DiaDia - ECPv6.15.20//NONSGML v1.0//EN
CALSCALE:GREGORIAN
METHOD:PUBLISH
X-ORIGINAL-URL:https://diadia.cat
X-WR-CALDESC:Esdeveniments per DiaDia
REFRESH-INTERVAL;VALUE=DURATION:PT1H
X-Robots-Tag:noindex
X-PUBLISHED-TTL:PT1H
BEGIN:VTIMEZONE
TZID:Europe/Helsinki
BEGIN:DAYLIGHT
TZOFFSETFROM:+0200
TZOFFSETTO:+0300
TZNAME:EEST
DTSTART:20220327T010000
END:DAYLIGHT
BEGIN:STANDARD
TZOFFSETFROM:+0300
TZOFFSETTO:+0200
TZNAME:EET
DTSTART:20221030T010000
END:STANDARD
BEGIN:DAYLIGHT
TZOFFSETFROM:+0200
TZOFFSETTO:+0300
TZNAME:EEST
DTSTART:20230326T010000
END:DAYLIGHT
BEGIN:STANDARD
TZOFFSETFROM:+0300
TZOFFSETTO:+0200
TZNAME:EET
DTSTART:20231029T010000
END:STANDARD
BEGIN:DAYLIGHT
TZOFFSETFROM:+0200
TZOFFSETTO:+0300
TZNAME:EEST
DTSTART:20240331T010000
END:DAYLIGHT
BEGIN:STANDARD
TZOFFSETFROM:+0300
TZOFFSETTO:+0200
TZNAME:EET
DTSTART:20241027T010000
END:STANDARD
END:VTIMEZONE
BEGIN:VEVENT
DTSTART;VALUE=DATE:20230629
DTEND;VALUE=DATE:20231001
DTSTAMP:20260423T204740
CREATED:20230629T145358Z
LAST-MODIFIED:20230629T145358Z
UID:142752-1687996800-1696118399@diadia.cat
SUMMARY:Ares. Servei de biblioteca i repàs
DESCRIPTION:
URL:https://diadia.cat/esdevenimentsdia/ares-servei-de-biblioteca-i-repas/
ATTACH;FMTTYPE=image/jpeg:https://diadia.cat/wp-content/uploads/2023/06/WhatsApp-Image-2023-06-29-at-14.47.32.jpeg
END:VEVENT
BEGIN:VEVENT
DTSTART;VALUE=DATE:20230701
DTEND;VALUE=DATE:20230826
DTSTAMP:20260423T204740
CREATED:20230629T090842Z
LAST-MODIFIED:20230629T090842Z
UID:142701-1688169600-1693007999@diadia.cat
SUMMARY:Benassal. Temporada de la piscina municipal
DESCRIPTION:
URL:https://diadia.cat/esdevenimentsdia/benassal-temporada-de-la-piscina-municipal/
ATTACH;FMTTYPE=image/jpeg:https://diadia.cat/wp-content/uploads/2023/06/WhatsApp-Image-2023-06-29-at-09.27.04.jpeg
END:VEVENT
BEGIN:VEVENT
DTSTART;VALUE=DATE:20230701
DTEND;VALUE=DATE:20230901
DTSTAMP:20260423T204740
CREATED:20230705T110116Z
LAST-MODIFIED:20230705T110116Z
UID:142908-1688169600-1693526399@diadia.cat
SUMMARY:Ares. Taller de tonificación autogestionada
DESCRIPTION:  \n  \n. \n  \n 
URL:https://diadia.cat/esdevenimentsdia/ares-taller-de-tonificacion-autogestionada/
ATTACH;FMTTYPE=image/jpeg:https://diadia.cat/wp-content/uploads/2023/07/Ares.-Taller-de-tonificacion-autogestionada.jpeg
END:VEVENT
BEGIN:VEVENT
DTSTART;VALUE=DATE:20230712
DTEND;VALUE=DATE:20230901
DTSTAMP:20260423T204740
CREATED:20230712T095010Z
LAST-MODIFIED:20230712T095010Z
UID:143200-1689120000-1693526399@diadia.cat
SUMMARY:Culla. Agenda de juliol i agost
DESCRIPTION:
URL:https://diadia.cat/esdevenimentsdia/culla-agenda-de-juliol-i-agost/
ATTACH;FMTTYPE=image/jpeg:https://diadia.cat/wp-content/uploads/2023/07/Culla.-Agenda-de-juliol-i-agost.jpeg
END:VEVENT
BEGIN:VEVENT
DTSTART;VALUE=DATE:20230801
DTEND;VALUE=DATE:20230807
DTSTAMP:20260423T204740
CREATED:20230727T131057Z
LAST-MODIFIED:20230727T131057Z
UID:144020-1690848000-1691366399@diadia.cat
SUMMARY:Albocàsser. Programa Setmana Cultural
DESCRIPTION:
URL:https://diadia.cat/esdevenimentsdia/albocasser-programa-setmana-cultural/
ATTACH;FMTTYPE=image/jpeg:https://diadia.cat/wp-content/uploads/2023/07/Programa-Setmana-Cultural-Albocasser-1-rotated.jpeg
END:VEVENT
BEGIN:VEVENT
DTSTART;VALUE=DATE:20230801
DTEND;VALUE=DATE:20230901
DTSTAMP:20260423T204740
CREATED:20230803T113025Z
LAST-MODIFIED:20230803T113025Z
UID:144451-1690848000-1693526399@diadia.cat
SUMMARY:Ares del Maestrat. Visites a la Cova Remígia i Cingle de la Mola Remígia
DESCRIPTION:
URL:https://diadia.cat/esdevenimentsdia/ares-del-maestrat-visites-a-la-cova-remigia-i-cingle-de-la-mola-remigia/
ATTACH;FMTTYPE=image/jpeg:https://diadia.cat/wp-content/uploads/2023/08/Ares-del-Maestrat.-Visites-a-la-Cova-Remigia-i-Cingle-de-la-Mola-Remigia.jpeg
END:VEVENT
BEGIN:VEVENT
DTSTART;VALUE=DATE:20230803
DTEND;VALUE=DATE:20230804
DTSTAMP:20260423T204740
CREATED:20230719T105653Z
LAST-MODIFIED:20230719T105653Z
UID:143492-1691020800-1691107199@diadia.cat
SUMMARY:Vistabella. Ruta de la Salut d'Alcer Castalia
DESCRIPTION:🆕 Acosta’t a la Ruta de la Salut d’Alcer Castalia \n🤔 Quan? Dijous 3 d’agost \n🕓 Hora? De 16h a 17h \n📍 On? En el Centre de Salut \nℹ️ Objectiu? Conscienciar i previndre sobre les malalties renals. També es faran mesuraments i seguiments a les persones que ho demanen \n*** \n🆕 Acércate a la Ruta de la Salud de Alcer Castalia \n🤔 Cuándo? Jueves 3 de agosto \n🕓 Hora? De 16h a 17h \n📍 Dónde? En el Centro de Salud \nℹ️ Objetivo? Concienciar y prevenir sobre las enfermedades renales. También se harán mediciones y seguimientos a las personas que lo piden
URL:https://diadia.cat/esdevenimentsdia/vistabella-ruta-de-la-salut-dalcer-castalia/
ATTACH;FMTTYPE=image/jpeg:https://diadia.cat/wp-content/uploads/2023/07/Vistabella-ruta-de-la-Salut-dAlcer-Castalia.jpeg
END:VEVENT
BEGIN:VEVENT
DTSTART;VALUE=DATE:20230803
DTEND;VALUE=DATE:20230804
DTSTAMP:20260423T204740
CREATED:20230802T081341Z
LAST-MODIFIED:20230802T081341Z
UID:144382-1691020800-1691107199@diadia.cat
SUMMARY:Benassal. Xou 'Bonico de Cara'
DESCRIPTION:✨ #Benassal s’ompli de màgia\, música i humor \n📆 El 3 d’agost a les 19:30h xou ‘Bonico de Cara’ \nℹ️ Tota la informació en el cartell adjunt \n*** \n✨ Benassal se llena de mágia\, música y humor \n📆 El 3 de agosto a las 19:30h show ‘Bonico de Cara’ \nℹ️ Toda la información en el cartell adjunto
URL:https://diadia.cat/esdevenimentsdia/benassal-xou-bonico-de-cara/
ATTACH;FMTTYPE=image/jpeg:https://diadia.cat/wp-content/uploads/2023/08/Benassal-xou-Bonico-de-Cara.jpeg
END:VEVENT
BEGIN:VEVENT
DTSTART;VALUE=DATE:20230803
DTEND;VALUE=DATE:20230804
DTSTAMP:20260423T204740
CREATED:20230803T132247Z
LAST-MODIFIED:20230803T132247Z
UID:144498-1691020800-1691107199@diadia.cat
SUMMARY:Benassal. Bonico de Cara
DESCRIPTION:
URL:https://diadia.cat/esdevenimentsdia/benassal-bonico-de-cara/
ATTACH;FMTTYPE=image/jpeg:https://diadia.cat/wp-content/uploads/2023/08/Benassal.-Bonico-de-Cara_543x768.jpeg
END:VEVENT
BEGIN:VEVENT
DTSTART;VALUE=DATE:20230804
DTEND;VALUE=DATE:20230805
DTSTAMP:20260423T204740
CREATED:20230726T081618Z
LAST-MODIFIED:20230726T081618Z
UID:143894-1691107200-1691193599@diadia.cat
SUMMARY:Vistabella. Taller de jota i fandango
DESCRIPTION:
URL:https://diadia.cat/esdevenimentsdia/vistabella-taller-de-jota-i-fandango/2023-08-04/
ATTACH;FMTTYPE=image/jpeg:https://diadia.cat/wp-content/uploads/2023/07/Vistabella.-Taller-de-jota-i-fandango.jpeg
END:VEVENT
BEGIN:VEVENT
DTSTART;VALUE=DATE:20230805
DTEND;VALUE=DATE:20230806
DTSTAMP:20260423T204740
CREATED:20230712T105324Z
LAST-MODIFIED:20230712T105324Z
UID:143216-1691193600-1691279999@diadia.cat
SUMMARY:Benassal. Torneig de futbol sala
DESCRIPTION:Deprés d’un any d’espera\, torna a Benassal el torneig de futbol sala d’estiu.🏆⚽️💥 \nDes de les 8:00h fins a les 22:00h del 5 d’Agost de 2023 tindrem viurem la jornada esportiva al poliesportiu municipal.🥳🥳 \nTots els equips interessats en participar teniu les dades de contacte tant al post com a les histories destacades.📲 \nEsteu tots convidats a viure l’emoció del torneig amb nosaltes. NO VOS HO PERDEU🏆⚽️🔥🔥
URL:https://diadia.cat/esdevenimentsdia/benassal-torneig-de-futbol-sala/
ATTACH;FMTTYPE=image/jpeg:https://diadia.cat/wp-content/uploads/2023/07/Benassal.-Torneig-de-futbol-sala.jpeg
END:VEVENT
BEGIN:VEVENT
DTSTART;VALUE=DATE:20230805
DTEND;VALUE=DATE:20230806
DTSTAMP:20260423T204740
CREATED:20230727T133322Z
LAST-MODIFIED:20230727T133322Z
UID:144023-1691193600-1691279999@diadia.cat
SUMMARY:Albocàsser. Actuació musical de Pep Gimeno 'El Botifarra' junt amb l'Associació Musical Santa Cecília
DESCRIPTION:📆 Dissabte 5 d’agost a les 20:30h en el pavelló municipal \n😉 No us ho pergueu
URL:https://diadia.cat/esdevenimentsdia/albocasser-actuacio-musical-de-pep-gimeno-el-botifarra-junt-amb-lassociacio-musical-santa-cecilia/
ATTACH;FMTTYPE=image/jpeg:https://diadia.cat/wp-content/uploads/2023/07/El-Botifarra-Albocasser.jpeg
END:VEVENT
BEGIN:VEVENT
DTSTART;VALUE=DATE:20230805
DTEND;VALUE=DATE:20230806
DTSTAMP:20260423T204740
CREATED:20230803T083525Z
LAST-MODIFIED:20230803T083525Z
UID:144424-1691193600-1691279999@diadia.cat
SUMMARY:Benassal. Torneig 'La Fallera Calavera'
DESCRIPTION:
URL:https://diadia.cat/esdevenimentsdia/benassal-torneig-la-fallera-calavera/
ATTACH;FMTTYPE=image/jpeg:https://diadia.cat/wp-content/uploads/2023/08/Benassal.-Torneig-La-Fallera-Calavera.jpeg
END:VEVENT
BEGIN:VEVENT
DTSTART;VALUE=DATE:20230805
DTEND;VALUE=DATE:20230814
DTSTAMP:20260423T204740
CREATED:20230810T144909Z
LAST-MODIFIED:20230810T144909Z
UID:144804-1691193600-1691971199@diadia.cat
SUMMARY:Benassal. La ruta de la seda
DESCRIPTION:
URL:https://diadia.cat/esdevenimentsdia/benassal-la-ruta-de-la-seda/
ATTACH;FMTTYPE=image/jpeg:https://diadia.cat/wp-content/uploads/2023/08/Benassal.-La-ruta-de-la-seda.jpeg
END:VEVENT
BEGIN:VEVENT
DTSTART;VALUE=DATE:20230810
DTEND;VALUE=DATE:20230811
DTSTAMP:20260423T204740
CREATED:20230810T142434Z
LAST-MODIFIED:20230810T142434Z
UID:144805-1691625600-1691711999@diadia.cat
SUMMARY:Benassal.Presentació literària  'Aules buides\, escoles oblidades'
DESCRIPTION:
URL:https://diadia.cat/esdevenimentsdia/benassal-presentacio-literaria-aules-buides-escoles-oblidades/
ATTACH;FMTTYPE=image/jpeg:https://diadia.cat/wp-content/uploads/2023/08/Benassal.Presentacio-literaria-Aules-buides-escoles-oblidades.jpeg
END:VEVENT
BEGIN:VEVENT
DTSTART;VALUE=DATE:20230810
DTEND;VALUE=DATE:20230811
DTSTAMP:20260423T204740
CREATED:20230810T145044Z
LAST-MODIFIED:20230810T145044Z
UID:144810-1691625600-1691711999@diadia.cat
SUMMARY:Benassal. Nits de jocs de taula
DESCRIPTION:
URL:https://diadia.cat/esdevenimentsdia/benassal-nits-de-jocs-de-taula/
ATTACH;FMTTYPE=image/jpeg:https://diadia.cat/wp-content/uploads/2023/08/Benassal.-Nits-de-jocs-de-taula.jpeg
END:VEVENT
BEGIN:VEVENT
DTSTART;VALUE=DATE:20230812
DTEND;VALUE=DATE:20230813
DTSTAMP:20260423T204740
CREATED:20230811T082329Z
LAST-MODIFIED:20230811T082329Z
UID:144829-1691798400-1691884799@diadia.cat
SUMMARY:Vistabella. Taller ' O Vere Deus'
DESCRIPTION:
URL:https://diadia.cat/esdevenimentsdia/vistabella-taller-o-vere-deus/
ATTACH;FMTTYPE=image/jpeg:https://diadia.cat/wp-content/uploads/2023/08/Vistabella.-Taller-O-Vere-Deus.jpeg
END:VEVENT
BEGIN:VEVENT
DTSTART;VALUE=DATE:20230813
DTEND;VALUE=DATE:20230814
DTSTAMP:20260423T204740
CREATED:20230803T084152Z
LAST-MODIFIED:20230803T084152Z
UID:144438-1691884800-1691971199@diadia.cat
SUMMARY:Benassal. II Marcha contra el càncer
DESCRIPTION:👕Venta de camisetes- 6€👕\n– Dissabte 5 d’agost. Porxos ajuntament. 11:30h-13:30h\n-Dijous 10 d’agost. Mercat\, C/ Vallterra 9:00h-13:00h\n-Dissabte 12 d’agost. Porxos ajuntament. 11:30h-13:30hsa
URL:https://diadia.cat/esdevenimentsdia/benassal-ii-marcha-contra-el-cancer/
ATTACH;FMTTYPE=image/jpeg:https://diadia.cat/wp-content/uploads/2023/08/Benassal.-II-Marcha-contra-el-cancer.jpeg
END:VEVENT
BEGIN:VEVENT
DTSTART;VALUE=DATE:20230814
DTEND;VALUE=DATE:20230815
DTSTAMP:20260423T204740
CREATED:20230811T125307Z
LAST-MODIFIED:20230811T125307Z
UID:144856-1691971200-1692057599@diadia.cat
SUMMARY:Benassal. Activitat Esportiva  'Big Sup'
DESCRIPTION:Per combatre les altes temperatures us invitem dilluns 14 d’agost a gaudir d’una modalitat de “paddle surf” a la piscina del Rivet.
URL:https://diadia.cat/esdevenimentsdia/benassal-activitat-esportiva-big-sup/
ATTACH;FMTTYPE=image/jpeg:https://diadia.cat/wp-content/uploads/2023/08/Benassal.-Activitat-Esportiva-Big-Sup.jpeg
END:VEVENT
BEGIN:VEVENT
DTSTART;VALUE=DATE:20230819
DTEND;VALUE=DATE:20230820
DTSTAMP:20260423T204740
CREATED:20230803T084451Z
LAST-MODIFIED:20230803T084451Z
UID:144441-1692403200-1692489599@diadia.cat
SUMMARY:Benassal. Tast de Vins
DESCRIPTION:
URL:https://diadia.cat/esdevenimentsdia/benassal-tast-de-vins/
ATTACH;FMTTYPE=image/jpeg:https://diadia.cat/wp-content/uploads/2023/08/Benassal.-Tast-de-Vins.jpeg
END:VEVENT
END:VCALENDAR