BEGIN:VCALENDAR
VERSION:2.0
PRODID:-//DiaDia - ECPv6.15.20//NONSGML v1.0//EN
CALSCALE:GREGORIAN
METHOD:PUBLISH
X-ORIGINAL-URL:https://diadia.cat
X-WR-CALDESC:Esdeveniments per DiaDia
REFRESH-INTERVAL;VALUE=DURATION:PT1H
X-Robots-Tag:noindex
X-PUBLISHED-TTL:PT1H
BEGIN:VTIMEZONE
TZID:Europe/Helsinki
BEGIN:DAYLIGHT
TZOFFSETFROM:+0200
TZOFFSETTO:+0300
TZNAME:EEST
DTSTART:20220327T010000
END:DAYLIGHT
BEGIN:STANDARD
TZOFFSETFROM:+0300
TZOFFSETTO:+0200
TZNAME:EET
DTSTART:20221030T010000
END:STANDARD
BEGIN:DAYLIGHT
TZOFFSETFROM:+0200
TZOFFSETTO:+0300
TZNAME:EEST
DTSTART:20230326T010000
END:DAYLIGHT
BEGIN:STANDARD
TZOFFSETFROM:+0300
TZOFFSETTO:+0200
TZNAME:EET
DTSTART:20231029T010000
END:STANDARD
BEGIN:DAYLIGHT
TZOFFSETFROM:+0200
TZOFFSETTO:+0300
TZNAME:EEST
DTSTART:20240331T010000
END:DAYLIGHT
BEGIN:STANDARD
TZOFFSETFROM:+0300
TZOFFSETTO:+0200
TZNAME:EET
DTSTART:20241027T010000
END:STANDARD
END:VTIMEZONE
BEGIN:VEVENT
DTSTART;VALUE=DATE:20230629
DTEND;VALUE=DATE:20231001
DTSTAMP:20260423T223512
CREATED:20230629T145358Z
LAST-MODIFIED:20230629T145358Z
UID:142752-1687996800-1696118399@diadia.cat
SUMMARY:Ares. Servei de biblioteca i repàs
DESCRIPTION:
URL:https://diadia.cat/esdevenimentsdia/ares-servei-de-biblioteca-i-repas/
ATTACH;FMTTYPE=image/jpeg:https://diadia.cat/wp-content/uploads/2023/06/WhatsApp-Image-2023-06-29-at-14.47.32.jpeg
END:VEVENT
BEGIN:VEVENT
DTSTART;VALUE=DATE:20230701
DTEND;VALUE=DATE:20230826
DTSTAMP:20260423T223512
CREATED:20230629T090842Z
LAST-MODIFIED:20230629T090842Z
UID:142701-1688169600-1693007999@diadia.cat
SUMMARY:Benassal. Temporada de la piscina municipal
DESCRIPTION:
URL:https://diadia.cat/esdevenimentsdia/benassal-temporada-de-la-piscina-municipal/
ATTACH;FMTTYPE=image/jpeg:https://diadia.cat/wp-content/uploads/2023/06/WhatsApp-Image-2023-06-29-at-09.27.04.jpeg
END:VEVENT
BEGIN:VEVENT
DTSTART;VALUE=DATE:20230701
DTEND;VALUE=DATE:20230901
DTSTAMP:20260423T223512
CREATED:20230705T110116Z
LAST-MODIFIED:20230705T110116Z
UID:142908-1688169600-1693526399@diadia.cat
SUMMARY:Ares. Taller de tonificación autogestionada
DESCRIPTION:  \n  \n. \n  \n 
URL:https://diadia.cat/esdevenimentsdia/ares-taller-de-tonificacion-autogestionada/
ATTACH;FMTTYPE=image/jpeg:https://diadia.cat/wp-content/uploads/2023/07/Ares.-Taller-de-tonificacion-autogestionada.jpeg
END:VEVENT
BEGIN:VEVENT
DTSTART;VALUE=DATE:20230705
DTEND;VALUE=DATE:20230706
DTSTAMP:20260423T223512
CREATED:20230705T102712Z
LAST-MODIFIED:20230705T102712Z
UID:142881-1688515200-1688601599@diadia.cat
SUMMARY:Benassal. Ioga i Tai Chi
DESCRIPTION:
URL:https://diadia.cat/esdevenimentsdia/benassal-ioga-i-tai-chi/2023-07-05/
ATTACH;FMTTYPE=image/jpeg:https://diadia.cat/wp-content/uploads/2023/07/Benassal.-Ioga-i-Tai-Chi.jpeg
END:VEVENT
BEGIN:VEVENT
DTSTART;VALUE=DATE:20230707
DTEND;VALUE=DATE:20230708
DTSTAMP:20260423T223512
CREATED:20230706T115152Z
LAST-MODIFIED:20230706T115152Z
UID:142988-1688688000-1688774399@diadia.cat
SUMMARY:Culla. Agenda de serveis sanitaris
DESCRIPTION:🏥👨🏽‍⚕️👩🏼‍⚕️ .\nSERVEI MÈDIC. CULLA – SERVEI ESPECIAL JULIOL/2023 (per problemes de personal sanitari).\nDivendres\, 7/juliol\nSí al Consultori de Monllat (Llorença) pel matí.\nAl consultori de Culla a partir de les 13 hores.\nDilluns\, 10/juliol\nAl consultori de Culla a partir de les 13 hores.\nDimarts\, 11/juliol\nSí al Consultori de Monllat (Llorença) pel matí.\nNo al consultori de Culla (Albocàsser)\n📲☎️ . Telf metge: 964336105 // Telf infermeria: 964336106\nCentro mèdic Albocàsser 964158150
URL:https://diadia.cat/esdevenimentsdia/culla-agenda-de-serveis-sanitaris/2023-07-07/
END:VEVENT
BEGIN:VEVENT
DTSTART;VALUE=DATE:20230708
DTEND;VALUE=DATE:20230709
DTSTAMP:20260423T223512
CREATED:20230706T112116Z
LAST-MODIFIED:20230706T112116Z
UID:142973-1688774400-1688860799@diadia.cat
SUMMARY:Culla. Art al Quadrat
DESCRIPTION:🏵️🎨🌀🏺\nExposició en\nGaleria Collblanc – Espai Nivi.\nMas de Tomàs.\n👉🏼 Inauguració el dissabte\, 8/7/23\, a les 21 h.
URL:https://diadia.cat/esdevenimentsdia/culla-art-al-quadrat/
ATTACH;FMTTYPE=image/jpeg:https://diadia.cat/wp-content/uploads/2023/07/Culla.-Art-al-Quadrat.jpeg
END:VEVENT
BEGIN:VEVENT
DTSTART;VALUE=DATE:20230709
DTEND;VALUE=DATE:20230710
DTSTAMP:20260423T223512
CREATED:20230602T125715Z
LAST-MODIFIED:20230602T125715Z
UID:141682-1688860800-1688947199@diadia.cat
SUMMARY:Benassal. Vetlades Barroques en Escenaris Històrics 2023
DESCRIPTION:
URL:https://diadia.cat/esdevenimentsdia/benassal-vetlades-barroques-en-escenaris-historics-2023/
ATTACH;FMTTYPE=image/jpeg:https://diadia.cat/wp-content/uploads/2023/06/Benassal.-Vetlades-Barroques-en-Escenaris-Historics-2023.jpeg
END:VEVENT
BEGIN:VEVENT
DTSTART;VALUE=DATE:20230709
DTEND;VALUE=DATE:20230710
DTSTAMP:20260423T223512
CREATED:20230705T111059Z
LAST-MODIFIED:20230705T111059Z
UID:142918-1688860800-1688947199@diadia.cat
SUMMARY:Benassal. Concert de música barroca
DESCRIPTION:
URL:https://diadia.cat/esdevenimentsdia/benassal-concert-de-musica-barroca/
ATTACH;FMTTYPE=image/jpeg:https://diadia.cat/wp-content/uploads/2023/07/Benassal.-Concert-de-musica-barroca.jpeg
END:VEVENT
BEGIN:VEVENT
DTSTART;VALUE=DATE:20230709
DTEND;VALUE=DATE:20230710
DTSTAMP:20260423T223512
CREATED:20230706T134414Z
LAST-MODIFIED:20230706T134414Z
UID:143016-1688860800-1688947199@diadia.cat
SUMMARY:Albocàsser. Intercanvi de Bandes
DESCRIPTION:
URL:https://diadia.cat/esdevenimentsdia/albocasser-intercanvi-de-bandes/
ATTACH;FMTTYPE=image/jpeg:https://diadia.cat/wp-content/uploads/2023/07/Albocasser.-Intercanvi-de-Bandes.jpeg
END:VEVENT
BEGIN:VEVENT
DTSTART;VALUE=DATE:20230709
DTEND;VALUE=DATE:20230710
DTSTAMP:20260423T223512
CREATED:20230706T134702Z
LAST-MODIFIED:20230706T134702Z
UID:143019-1688860800-1688947199@diadia.cat
SUMMARY:Albocàsser. Trobadores al Dia de les Famílies amb "Tira-li"
DESCRIPTION:
URL:https://diadia.cat/esdevenimentsdia/albocasser-trobadores-al-dia-de-les-families-amb-tira-li/
ATTACH;FMTTYPE=image/jpeg:https://diadia.cat/wp-content/uploads/2023/07/Albocasser.-Trobadores-al-Dia-de-les-Families-amb-Tira-li.jpeg
END:VEVENT
BEGIN:VEVENT
DTSTART;VALUE=DATE:20230710
DTEND;VALUE=DATE:20230711
DTSTAMP:20260423T223512
CREATED:20230706T111036Z
LAST-MODIFIED:20230706T111036Z
UID:142964-1688947200-1689033599@diadia.cat
SUMMARY:Benassal. Classes de natació.
DESCRIPTION:💦🏊‍♂️Classes de natació 🏊‍♀️💦 \n👉Per a infants i adults\n🏊‍♀️ Amb possibilitat d’aquagym\n📆A partir del 10 de juliol\n📍Més informació a la Piscina Municipal \n— \n💦🏊‍♂️Clases de natación 🏊‍♀️💦 \n👉Para infantes y adultos\n🏊‍♀️ Con posibilidad de aquagym\n📆A partir del 10 de julio\n📍Más información en la Piscina Municipal
URL:https://diadia.cat/esdevenimentsdia/benassal-classes-de-natacio/
ATTACH;FMTTYPE=image/jpeg:https://diadia.cat/wp-content/uploads/2023/07/Benassal.-Classes-de-natacio.jpeg
END:VEVENT
BEGIN:VEVENT
DTSTART;VALUE=DATE:20230710
DTEND;VALUE=DATE:20230711
DTSTAMP:20260423T223512
CREATED:20230706T111253Z
LAST-MODIFIED:20230706T111253Z
UID:142967-1688947200-1689033599@diadia.cat
SUMMARY:Culla. Obres a la pista del Mas de Paulo.
DESCRIPTION:🚧 ⛏️ 🚜 .\nOBRES EN PISTA ZONA MASIA PAULO de CULLA.\nEs comunica que a partir del dilluns 10/juliol/2023\, s’inicien treballs de condicionament de pista asfaltada des de Masia Paulo fins a zona de Els Estrets.\nEn eixe tram no es podrà circular durant uns dies.\nLamentem les molèsties\, es realitza per a millora del vial.
URL:https://diadia.cat/esdevenimentsdia/culla-obres-a-la-pista-del-mas-de-paulo/
END:VEVENT
BEGIN:VEVENT
DTSTART;VALUE=DATE:20230712
DTEND;VALUE=DATE:20230901
DTSTAMP:20260423T223512
CREATED:20230712T095010Z
LAST-MODIFIED:20230712T095010Z
UID:143200-1689120000-1693526399@diadia.cat
SUMMARY:Culla. Agenda de juliol i agost
DESCRIPTION:
URL:https://diadia.cat/esdevenimentsdia/culla-agenda-de-juliol-i-agost/
ATTACH;FMTTYPE=image/jpeg:https://diadia.cat/wp-content/uploads/2023/07/Culla.-Agenda-de-juliol-i-agost.jpeg
END:VEVENT
BEGIN:VEVENT
DTSTART;VALUE=DATE:20230715
DTEND;VALUE=DATE:20230716
DTSTAMP:20260423T223512
CREATED:20230706T111710Z
LAST-MODIFIED:20230706T111710Z
UID:142969-1689379200-1689465599@diadia.cat
SUMMARY:Culla. Nit dels ciris.
DESCRIPTION:🕯️🪔\nCULLA. NIT DE L’ENCESA.\n15/07/2023 .\nDe 22:30 a 1:30 h.\nMés de 5000 ciris il·luminaran els carrers del nucli antic .\nAmb actuacions musicals.
URL:https://diadia.cat/esdevenimentsdia/culla-nit-dels-ciris/
ATTACH;FMTTYPE=image/jpeg:https://diadia.cat/wp-content/uploads/2023/07/Culla.-Nit-dels-ciris-1.jpeg
END:VEVENT
BEGIN:VEVENT
DTSTART;VALUE=DATE:20230715
DTEND;VALUE=DATE:20230716
DTSTAMP:20260423T223512
CREATED:20230711T110841Z
LAST-MODIFIED:20230711T110841Z
UID:143161-1689379200-1689465599@diadia.cat
SUMMARY:Benassal. 30 anys de l'associació de dones
DESCRIPTION:El dissabte 15 de juliol l’Associació de Dones Maestrat de Benassal volen celebrar amb tot el poble el seu 30 aniversari. Ja es poden adquirir les entrades als punts indicats al cartell. Serà una gran festa per a gaudir amb totes i tots\, grans i menuts del dinar\, música i inflables amb monitors! Animeu-vos!
URL:https://diadia.cat/esdevenimentsdia/benassal-30-anys-de-lassociacio-de-dones/
ATTACH;FMTTYPE=image/jpeg:https://diadia.cat/wp-content/uploads/2023/07/Benassal.-30-anys-de-lassociacio-de-dones.jpeg
END:VEVENT
BEGIN:VEVENT
DTSTART;VALUE=DATE:20230717
DTEND;VALUE=DATE:20230718
DTSTAMP:20260423T223512
CREATED:20230712T104416Z
LAST-MODIFIED:20230712T105116Z
UID:143213-1689552000-1689638399@diadia.cat
SUMMARY:Vilar de Canes. Ruta de la Salut
DESCRIPTION:
URL:https://diadia.cat/esdevenimentsdia/vilar-de-canes-ruta-de-la-salut/
ATTACH;FMTTYPE=image/jpeg:https://diadia.cat/wp-content/uploads/2023/07/Ruta-salud_page-0001.jpg
END:VEVENT
BEGIN:VEVENT
DTSTART;VALUE=DATE:20230721
DTEND;VALUE=DATE:20230722
DTSTAMP:20260423T223512
CREATED:20230705T101728Z
LAST-MODIFIED:20230705T101728Z
UID:142877-1689897600-1689983999@diadia.cat
SUMMARY:Benassal. Nit d'estels
DESCRIPTION:
URL:https://diadia.cat/esdevenimentsdia/benassal-nit-destels/2023-07-21/
ATTACH;FMTTYPE=image/jpeg:https://diadia.cat/wp-content/uploads/2023/07/Benassal.-Nit-destels.jpeg
END:VEVENT
BEGIN:VEVENT
DTSTART;VALUE=DATE:20230722
DTEND;VALUE=DATE:20230723
DTSTAMP:20260423T223512
CREATED:20230524T114150Z
LAST-MODIFIED:20230524T114150Z
UID:141224-1689984000-1690070399@diadia.cat
SUMMARY:Benassal. Música en directe Rock a Banda II
DESCRIPTION:
URL:https://diadia.cat/esdevenimentsdia/benassal-musica-en-directe-rock-a-banda-ii/
ATTACH;FMTTYPE=image/jpeg:https://diadia.cat/wp-content/uploads/2023/05/Benassal.-Musica-en-directe-Rock-a-Banda-II.jpeg
END:VEVENT
BEGIN:VEVENT
DTSTART;VALUE=DATE:20230722
DTEND;VALUE=DATE:20230723
DTSTAMP:20260423T223512
CREATED:20230719T074303Z
LAST-MODIFIED:20230719T074303Z
UID:143465-1689984000-1690070399@diadia.cat
SUMMARY:Ares. Visita guiada 'Els Ports és autèntic'
DESCRIPTION:📣 Aquest dissabte\, 22 de juliol\, no et pergues la visita guiada organitzada per ‘Els Ports és autèntic’ en #AresdelMaestrat \n📎 Inscriu-te ací: www.agendaelsports.es \n🆓 Gratuït \n*** \n📣 Este sábado\, 22 de julio\, no te pierdas la visita guiada organizada por ‘Els Ports és autèntic’en Ares del Maestrat \n📎 Inscríbete aquí: www.agendaelsports.es \n🆓 ¡Gratuito!
URL:https://diadia.cat/esdevenimentsdia/ares-visita-guiada-els-ports-es-autentic/
ATTACH;FMTTYPE=image/jpeg:https://diadia.cat/wp-content/uploads/2023/07/Visites-guiades-Ares.jpeg
END:VEVENT
BEGIN:VEVENT
DTSTART;VALUE=DATE:20230726
DTEND;VALUE=DATE:20230727
DTSTAMP:20260423T223512
CREATED:20230725T140024Z
LAST-MODIFIED:20230725T140024Z
UID:143872-1690329600-1690415999@diadia.cat
SUMMARY:Benassal. Rokoarbre i tirolina.
DESCRIPTION:
URL:https://diadia.cat/esdevenimentsdia/benassal-rokoarbre-i-tirolina/
ATTACH;FMTTYPE=image/jpeg:https://diadia.cat/wp-content/uploads/2023/07/Benassal.-Rokoarbre-i-tirolina.jpeg
END:VEVENT
BEGIN:VEVENT
DTSTART;VALUE=DATE:20230728
DTEND;VALUE=DATE:20230731
DTSTAMP:20260423T223512
CREATED:20230712T102338Z
LAST-MODIFIED:20230712T102338Z
UID:143210-1690502400-1690761599@diadia.cat
SUMMARY:Albocàsser. Festes dels joves
DESCRIPTION:📣Hola a tots i totes!🤪\nUs presentem la programació de l’esperat cap de setmana de JOVES 2023 ALBOCÀSSER i totes les empreses que han col.laborat amb els joves! \nEsperem que les disfrutem tots junts com toca! 🎉🪩
URL:https://diadia.cat/esdevenimentsdia/albocasser-festes-dels-joves/
ATTACH;FMTTYPE=image/jpeg:https://diadia.cat/wp-content/uploads/2023/07/Albocasser.-Festes-dels-joves.jpeg
END:VEVENT
BEGIN:VEVENT
DTSTART;VALUE=DATE:20230729
DTEND;VALUE=DATE:20230730
DTSTAMP:20260423T223512
CREATED:20230712T092400Z
LAST-MODIFIED:20230712T092400Z
UID:143190-1690588800-1690675199@diadia.cat
SUMMARY:Culla. Curs de defensa personal
DESCRIPTION:🤼‍♀️ 🥋\nCULLA\nIniciación a la defensa personal \n. Fecha: sábado\, 29/julio2023\n. Horario: de 10 a 13 h.\n. Lugar: Polideportivo de Culla.\n👉🏼 clase de defensa personal\n👉🏼 para todos los públicos mayores de 8 años.\n🪙 Coste: 15€ por persona y se efectuará en efectivo el mismo día a la entrada del curso.\n🍶💧👟👕\nLos participantes\, solo necesitarán venir con ropa cómoda  y agua.\nOrganiza: SOMNIA / Club Taekwondo ITF CS\nColabora: Ayuntamiento de Culla. \nInscripción: 👇🏼\n652189075\nO en enlace:\nhttps://n9.cl/buz28
URL:https://diadia.cat/esdevenimentsdia/culla-curs-de-defensa-personal/
ATTACH;FMTTYPE=image/jpeg:https://diadia.cat/wp-content/uploads/2023/07/Culla.-Curs-de-defensa-personal.jpeg
END:VEVENT
END:VCALENDAR