BEGIN:VCALENDAR
VERSION:2.0
PRODID:-//DiaDia - ECPv6.15.20//NONSGML v1.0//EN
CALSCALE:GREGORIAN
METHOD:PUBLISH
X-ORIGINAL-URL:https://diadia.cat
X-WR-CALDESC:Esdeveniments per DiaDia
REFRESH-INTERVAL;VALUE=DURATION:PT1H
X-Robots-Tag:noindex
X-PUBLISHED-TTL:PT1H
BEGIN:VTIMEZONE
TZID:Europe/Helsinki
BEGIN:DAYLIGHT
TZOFFSETFROM:+0200
TZOFFSETTO:+0300
TZNAME:EEST
DTSTART:20220327T010000
END:DAYLIGHT
BEGIN:STANDARD
TZOFFSETFROM:+0300
TZOFFSETTO:+0200
TZNAME:EET
DTSTART:20221030T010000
END:STANDARD
BEGIN:DAYLIGHT
TZOFFSETFROM:+0200
TZOFFSETTO:+0300
TZNAME:EEST
DTSTART:20230326T010000
END:DAYLIGHT
BEGIN:STANDARD
TZOFFSETFROM:+0300
TZOFFSETTO:+0200
TZNAME:EET
DTSTART:20231029T010000
END:STANDARD
BEGIN:DAYLIGHT
TZOFFSETFROM:+0200
TZOFFSETTO:+0300
TZNAME:EEST
DTSTART:20240331T010000
END:DAYLIGHT
BEGIN:STANDARD
TZOFFSETFROM:+0300
TZOFFSETTO:+0200
TZNAME:EET
DTSTART:20241027T010000
END:STANDARD
END:VTIMEZONE
BEGIN:VEVENT
DTSTART;TZID=Europe/Helsinki:20230602T223000
DTEND;TZID=Europe/Helsinki:20230604T223000
DTSTAMP:20260420T144630
CREATED:20230530T141621Z
LAST-MODIFIED:20230530T141621Z
UID:141548-1685745000-1685917800@diadia.cat
SUMMARY:Cap de setmana Penya Taurina Vilafranca
DESCRIPTION:2 3 i 4 de juny. \nPlaça Constitució\, Carrer Carles Salvador i El Parador \nPROGRAMA
URL:https://diadia.cat/esdevenimentsdia/cap-de-setmana-penya-taurina-vilafranca/
LOCATION:Vilafranca\, Vilafranca\, Espanya
CATEGORIES:Vilafranca
ATTACH;FMTTYPE=image/jpeg:https://diadia.cat/wp-content/uploads/2023/05/AGENDA-ACTIVA-JUNY-VILAFRANCA.jpg
END:VEVENT
BEGIN:VEVENT
DTSTART;VALUE=DATE:20230603
DTEND;VALUE=DATE:20230604
DTSTAMP:20260420T144630
CREATED:20230530T133939Z
LAST-MODIFIED:20230530T133939Z
UID:141543-1685750400-1685836799@diadia.cat
SUMMARY:Trobada d’Educació i Acció Interrompre la Classe
DESCRIPTION:De les paraules bensonants a les accions indisciplinades. \n3 de juny \nInscripcions www.ditalull.com \nUniversitat Jaume I i Ajuntament de Vilafranca
URL:https://diadia.cat/esdevenimentsdia/trobada-deducacio-i-accio-interrompre-la-classe/
LOCATION:Vilafranca\, Vilafranca\, Espanya
CATEGORIES:Vilafranca
ATTACH;FMTTYPE=image/jpeg:https://diadia.cat/wp-content/uploads/2023/05/AGENDA-ACTIVA-JUNY-VILAFRANCA.jpg
END:VEVENT
BEGIN:VEVENT
DTSTART;TZID=Europe/Helsinki:20230604T113000
DTEND;TZID=Europe/Helsinki:20230604T133000
DTSTAMP:20260420T144630
CREATED:20230530T142035Z
LAST-MODIFIED:20230530T142055Z
UID:141551-1685878200-1685885400@diadia.cat
SUMMARY:Visita a La Covatina
DESCRIPTION:Pla de Posada en Valor de l’Art Rupestre \n4 de juny \n11:30 h \nEixida des de les Oficines Municipals \nCal inscriure’s: 964441432 – vilafranca@touristinfo.net \nConselleria d’Educació\, Cultura i Esport\, Museu de la Valltorta i Ajuntament de Vilafranca.ovatinauseu de
URL:https://diadia.cat/esdevenimentsdia/visita-a-la-covatina/
LOCATION:Vilafranca\, Vilafranca\, Espanya
CATEGORIES:Vilafranca
ATTACH;FMTTYPE=image/jpeg:https://diadia.cat/wp-content/uploads/2023/05/AGENDA-ACTIVA-JUNY-VILAFRANCA.jpg
END:VEVENT
BEGIN:VEVENT
DTSTART;TZID=Europe/Helsinki:20230606T160000
DTEND;TZID=Europe/Helsinki:20230606T203000
DTSTAMP:20260420T144630
CREATED:20230530T142600Z
LAST-MODIFIED:20230530T142600Z
UID:141554-1686067200-1686083400@diadia.cat
SUMMARY:Xerrada a Vilafranca: ‘Com prevenim l’addicció als videojocs i a les xarxes socials dels nostres fills i filles?’
DESCRIPTION:Xerrada impartida per Aspresam\, dirigida a famílies d’infants d’infantil i primària \n6 de juny \nCasa Social de Vilafranca. \n16h de P3 a 2n primària / 17:30h 3r i 4t de primària / 19h 5è i 6é de primària \nAMPA CEIP Don Blasco de Alagón
URL:https://diadia.cat/esdevenimentsdia/xerrada-a-vilafranca-com-prevenim-laddiccio-als-videojocs-i-a-les-xarxes-socials-dels-nostres-fills-i-filles/
LOCATION:Casa Social de Vilafranca\, Vilafranca
CATEGORIES:Vilafranca
ATTACH;FMTTYPE=image/jpeg:https://diadia.cat/wp-content/uploads/2023/05/AGENDA-ACTIVA-JUNY-VILAFRANCA.jpg
END:VEVENT
BEGIN:VEVENT
DTSTART;TZID=Europe/Helsinki:20230608T080000
DTEND;TZID=Europe/Helsinki:20230702T170000
DTSTAMP:20260420T144630
CREATED:20230530T133629Z
LAST-MODIFIED:20230530T133629Z
UID:141539-1686211200-1688317200@diadia.cat
SUMMARY:Exposició “Imprescindibles”.  Recull d’històries de vida de persones rellevants per la joventut  de la comarca
DESCRIPTION:Recull d’històries de vida de persones rellevants per la joventut de la comarca. \nDel 8 de juny al 2 de juliol de 2023 \nSales Gòtiques de l’Ajuntament \nJoventut de 2n d’ESO de l’IES Els Ports i l’IES Vilafranca \nXarxa Jove de la Mancomunitat Comarcal Els Ports i Ajuntament de Vilafranca
URL:https://diadia.cat/esdevenimentsdia/exposicio-imprescindibles-recull-dhistories-de-vida-de-persones-rellevants-per-la-joventut-de-la-comarca/
LOCATION:Sales Gòtiques de l’Ajuntament de Vilafranca\, Vilafranca\, Espanya
CATEGORIES:Vilafranca
ATTACH;FMTTYPE=image/jpeg:https://diadia.cat/wp-content/uploads/2023/05/AGENDA-ACTIVA-JUNY-VILAFRANCA.jpg
END:VEVENT
BEGIN:VEVENT
DTSTART;TZID=Europe/Helsinki:20230609T190000
DTEND;TZID=Europe/Helsinki:20230609T203000
DTSTAMP:20260420T144630
CREATED:20230530T143826Z
LAST-MODIFIED:20230530T143826Z
UID:141557-1686337200-1686342600@diadia.cat
SUMMARY:Club de Lectura Vilafranca – Bàrbara Blasco
DESCRIPTION:Bàrbara Blasco parlarà de la seua novel·la “Dicen los síntomas”\, Premi Tusquets de novel·la 2020 \n9 de juny \n19h \nCasa Social \nCampanya “Llegim als pobles” de la Conselleria de Cultura amb la Direcció General de Cultura i Patrimoni i l’Ajuntament de Vilafranca.
URL:https://diadia.cat/esdevenimentsdia/club-de-lectura-vilafranca-barbara-blasco/
LOCATION:Casa Social de Vilafranca\, Vilafranca
CATEGORIES:Vilafranca
ATTACH;FMTTYPE=image/jpeg:https://diadia.cat/wp-content/uploads/2023/05/AGENDA-ACTIVA-JUNY-VILAFRANCA.jpg
END:VEVENT
BEGIN:VEVENT
DTSTART;VALUE=DATE:20230612
DTEND;VALUE=DATE:20230613
DTSTAMP:20260420T144630
CREATED:20230530T144319Z
LAST-MODIFIED:20230530T144319Z
UID:141561-1686528000-1686614399@diadia.cat
SUMMARY:Portes obertes IES Vilafranca
DESCRIPTION:Jornada de portes obertes per l’alumnat i famílies de 6é de Primària del CEIP Don Blasco de Alagón de Vilafranca.
URL:https://diadia.cat/esdevenimentsdia/portes-obertes-ies-vilafranca/
LOCATION:IES Vilafranca\, Vilafranca\, Espanya
CATEGORIES:Vilafranca
ATTACH;FMTTYPE=image/jpeg:https://diadia.cat/wp-content/uploads/2023/05/AGENDA-ACTIVA-JUNY-VILAFRANCA.jpg
END:VEVENT
BEGIN:VEVENT
DTSTART;TZID=Europe/Helsinki:20230616T080000
DTEND;TZID=Europe/Helsinki:20230618T200000
DTSTAMP:20260420T144630
CREATED:20230530T153306Z
LAST-MODIFIED:20230530T153306Z
UID:141570-1686902400-1687118400@diadia.cat
SUMMARY:XXVI Marxa Homenatge als Maquis de Vilafranca
DESCRIPTION:16\, 17 i 18 de juny \nAlberg La Parreta \nInscripcions: infotrinx@nodo50.org \nCol·lectiu A les Trinxeres\, El Punt\, Espai de Lliure Aprenentatge
URL:https://diadia.cat/esdevenimentsdia/xxvi-marxa-homenatge-als-maquis-de-vilafranca/
CATEGORIES:Vilafranca
ATTACH;FMTTYPE=image/jpeg:https://diadia.cat/wp-content/uploads/2023/05/AGENDA-ACTIVA-JUNY-VILAFRANCA.jpg
END:VEVENT
BEGIN:VEVENT
DTSTART;TZID=Europe/Helsinki:20230616T123000
DTEND;TZID=Europe/Helsinki:20230616T140000
DTSTAMP:20260420T144630
CREATED:20230530T144606Z
LAST-MODIFIED:20230530T144606Z
UID:141565-1686918600-1686924000@diadia.cat
SUMMARY:Concert final de curs IES Vilafranca
DESCRIPTION:16 de juny a les 12:30h \nTeatre Carles Pons de la Casa de Cultura \nIES Vilafranca
URL:https://diadia.cat/esdevenimentsdia/concert-final-de-curs-ies-vilafranca/
LOCATION:Casa de la Cultura de Vilafranca\, Vilafranca\, Espanya
CATEGORIES:Vilafranca
ATTACH;FMTTYPE=image/jpeg:https://diadia.cat/wp-content/uploads/2023/05/AGENDA-ACTIVA-JUNY-VILAFRANCA.jpg
END:VEVENT
BEGIN:VEVENT
DTSTART;TZID=Europe/Helsinki:20230616T180000
DTEND;TZID=Europe/Helsinki:20230616T230000
DTSTAMP:20260420T144630
CREATED:20230530T151736Z
LAST-MODIFIED:20230530T151736Z
UID:141568-1686938400-1686956400@diadia.cat
SUMMARY:Cosmic Funk Odyssey: Ballant entre les estrelles
DESCRIPTION:2a. Edició del festival de funky \n16 de juny a les 18h \nSala de Teatre Carles Pons – Casa de la Cultura
URL:https://diadia.cat/esdevenimentsdia/cosmic-funk-odyssey-ballant-entre-les-estrelles/
LOCATION:Casa de la Cultura de Vilafranca\, Vilafranca\, Espanya
CATEGORIES:Vilafranca
ATTACH;FMTTYPE=image/jpeg:https://diadia.cat/wp-content/uploads/2023/05/AGENDA-ACTIVA-JUNY-VILAFRANCA.jpg
END:VEVENT
BEGIN:VEVENT
DTSTART;TZID=Europe/Helsinki:20230617T110000
DTEND;TZID=Europe/Helsinki:20230617T180000
DTSTAMP:20260420T144630
CREATED:20230531T062705Z
LAST-MODIFIED:20230531T062705Z
UID:141583-1686999600-1687024800@diadia.cat
SUMMARY:Bureo Vilafranca
DESCRIPTION:17 de juny \n11h Taller de Jota Vilafranquina – El Parador / 13h Trobada de músics i balladors i balladores – Pça. D’En Blasc / 14h Dinar de pa i porta – El\nParador / 16h “Bureo” Popular – El Parador \nAssociació Cultural “Bureo” Vilafranca
URL:https://diadia.cat/esdevenimentsdia/bureo-vilafranca/
LOCATION:Vilafranca\, Vilafranca\, Espanya
CATEGORIES:Vilafranca
ATTACH;FMTTYPE=image/jpeg:https://diadia.cat/wp-content/uploads/2023/05/AGENDA-ACTIVA-JUNY-VILAFRANCA.jpg
END:VEVENT
BEGIN:VEVENT
DTSTART;VALUE=DATE:20230618
DTEND;VALUE=DATE:20230619
DTSTAMP:20260420T144630
CREATED:20230531T063045Z
LAST-MODIFIED:20230531T063045Z
UID:141586-1687046400-1687132799@diadia.cat
SUMMARY:Festa Associació Pensionistes i Jubilats Francolí de Vilafranca
DESCRIPTION:18 de juny \n10h Missa cantada amb el Grup de Rondalla i Ball de Vilafranca. A continuació ronda fins la Residència de la 3a edat on s’oferirà un concert i ball de jota i bureo. \n14h Dinar de germanor i ball al Parador \nAssociació de Pensionistes i Jubilats Francolí
URL:https://diadia.cat/esdevenimentsdia/festa-associacio-pensionistes-i-jubilats-francoli-de-vilafranca/
LOCATION:Vilafranca\, Vilafranca\, Espanya
CATEGORIES:Vilafranca
ATTACH;FMTTYPE=image/jpeg:https://diadia.cat/wp-content/uploads/2023/05/AGENDA-ACTIVA-JUNY-VILAFRANCA.jpg
END:VEVENT
BEGIN:VEVENT
DTSTART;VALUE=DATE:20230621
DTEND;VALUE=DATE:20230622
DTSTAMP:20260420T144630
CREATED:20230531T063317Z
LAST-MODIFIED:20230531T063317Z
UID:141589-1687305600-1687391999@diadia.cat
SUMMARY:Festa final de curs CEIP Don Blasco de Alagón de Vilafranca
DESCRIPTION:CEIP i AMPA Don Blasco de Alagón \n\n\n\n21 de juny
URL:https://diadia.cat/esdevenimentsdia/festa-final-de-curs-ceip-don-blasco-de-alagon-de-vilafranca/
LOCATION:Vilafranca\, Vilafranca\, Espanya
CATEGORIES:Vilafranca
ATTACH;FMTTYPE=image/jpeg:https://diadia.cat/wp-content/uploads/2023/05/AGENDA-ACTIVA-JUNY-VILAFRANCA.jpg
END:VEVENT
BEGIN:VEVENT
DTSTART;TZID=Europe/Helsinki:20230625T190000
DTEND;TZID=Europe/Helsinki:20230625T210000
DTSTAMP:20260420T144630
CREATED:20230531T064428Z
LAST-MODIFIED:20230531T064428Z
UID:141592-1687719600-1687726800@diadia.cat
SUMMARY:Teatre 'Un repàs per la història' - Vilafranca
DESCRIPTION:Teatre de l’aula de Teatre de la Universitat per a Majors de la Universitat Jaume I seu en Vilafranca. \nDirigda per Santiago López Rodríguez \n25 de juny \n19h \nTeatre Carles Pons – Casa de Cultura \nUJI Majors
URL:https://diadia.cat/esdevenimentsdia/teatre-un-repas-per-la-historia-vilafranca/
LOCATION:Casa de la Cultura de Vilafranca\, Vilafranca\, Espanya
CATEGORIES:Vilafranca
ATTACH;FMTTYPE=image/jpeg:https://diadia.cat/wp-content/uploads/2023/05/AGENDA-ACTIVA-JUNY-VILAFRANCA.jpg
END:VEVENT
BEGIN:VEVENT
DTSTART;TZID=Europe/Helsinki:20230625T190000
DTEND;TZID=Europe/Helsinki:20230625T210000
DTSTAMP:20260420T144630
CREATED:20230531T065122Z
LAST-MODIFIED:20230531T065122Z
UID:141595-1687719600-1687726800@diadia.cat
SUMMARY:Teatre ‘Un repàs per la història’
DESCRIPTION:Teatre de l’aula de Teatre de la Universitat per a Majors de la Universitat Jaume I seu en Vilafranca. \nDirigda per Santiago López Rodríguez \n25 de juny \n19h \nTeatre Carles Pons – Casa de Cultura \nUJI Majors
URL:https://diadia.cat/esdevenimentsdia/teatre-un-repas-per-la-historia/
LOCATION:Vilafranca\, Vilafranca\, Espanya
CATEGORIES:Vilafranca
ATTACH;FMTTYPE=image/jpeg:https://diadia.cat/wp-content/uploads/2023/05/AGENDA-ACTIVA-JUNY-VILAFRANCA.jpg
END:VEVENT
BEGIN:VEVENT
DTSTART;TZID=Europe/Helsinki:20230626T080000
DTEND;TZID=Europe/Helsinki:20230627T220000
DTSTAMP:20260420T144630
CREATED:20230531T065508Z
LAST-MODIFIED:20230531T065508Z
UID:141598-1687766400-1687903200@diadia.cat
SUMMARY:Trobada Corresponsals Nord
DESCRIPTION:26 i 27 de juny \nAlberg Jaume I – Alcossebre \nMancomunitat Els Ports\, Alt Maestrat\, Penyagolosa\, Baix Maestrat\, Ajuntament d’Alcalà – Alcossebre i IVAJ
URL:https://diadia.cat/esdevenimentsdia/trobada-corresponsals-nord/
LOCATION:Alcossebre
CATEGORIES:Vilafranca
ATTACH;FMTTYPE=image/jpeg:https://diadia.cat/wp-content/uploads/2023/05/AGENDA-ACTIVA-JUNY-VILAFRANCA.jpg
END:VEVENT
END:VCALENDAR